BEGIN:VCALENDAR
VERSION:2.0
PRODID:-//Oregon Floating Home Owner News - ECPv6.13.2.1//NONSGML v1.0//EN
CALSCALE:GREGORIAN
METHOD:PUBLISH
X-WR-CALNAME:Oregon Floating Home Owner News
X-ORIGINAL-URL:http://www.floatinghomeowners.com
X-WR-CALDESC:Events for Oregon Floating Home Owner News
REFRESH-INTERVAL;VALUE=DURATION:PT1H
X-Robots-Tag:noindex
X-PUBLISHED-TTL:PT1H
BEGIN:VTIMEZONE
TZID:UTC
BEGIN:STANDARD
TZOFFSETFROM:+0000
TZOFFSETTO:+0000
TZNAME:UTC
DTSTART:20180101T000000
END:STANDARD
END:VTIMEZONE
BEGIN:VEVENT
DTSTART;TZID=UTC:20181024T090000
DTEND;TZID=UTC:20181024T120000
DTSTAMP:20260423T210259
CREATED:20180325T233021Z
LAST-MODIFIED:20180617T223611Z
UID:146-1540371600-1540382400@www.floatinghomeowners.com
SUMMARY:MHC Meeting - Eugene
DESCRIPTION:This meeting has been changed to a Wednesday to coincide with the annual landlord meeting and will be held in Eugene.
URL:http://www.floatinghomeowners.com/event/manufactured-housing-coalition-meeting-4/
LOCATION:River Valley Inn\, 1000 Valley River Way\, Eugene\, OR\, 97401\, United States
CATEGORIES:MH Landlord-Tenant Coalition
END:VEVENT
BEGIN:VEVENT
DTSTART;TZID=UTC:20180918T090000
DTEND;TZID=UTC:20180918T120000
DTSTAMP:20260423T210259
CREATED:20180325T233512Z
LAST-MODIFIED:20180617T223607Z
UID:159-1537261200-1537272000@www.floatinghomeowners.com
SUMMARY:MHC Meeting - Salem
DESCRIPTION:While it is best to participate in person and conference calls can be difficult to follow when 30 people are talking together in a room\, sometimes you just cannot make it. \nSalem dial-in conference line: 866-590-3642\, passcode *3986386*
URL:http://www.floatinghomeowners.com/event/mhc-meeting-salem-2/
LOCATION:Oregon Manufactured Housing Association\, 2255 State Street\, Salem\, OR\, 97301\, United States
CATEGORIES:MH Landlord-Tenant Coalition
END:VEVENT
BEGIN:VEVENT
DTSTART;TZID=UTC:20180814T090000
DTEND;TZID=UTC:20180814T120000
DTSTAMP:20260423T210259
CREATED:20180325T232920Z
LAST-MODIFIED:20180720T183141Z
UID:144-1534237200-1534248000@www.floatinghomeowners.com
SUMMARY:MHC Meeting - SALEM (Revised as of 6/29/18)
DESCRIPTION:While it is best to participate in person and conference calls can be difficult to follow when 30 people are talking together in a room\, sometimes you just cannot make it. \nSalem dial-in conference line: (866) 590-3642\, passcode: *3986386*
URL:http://www.floatinghomeowners.com/event/manufactured-housing-coalition-meeting-3/
LOCATION:Oregon Manufactured Housing Association\, 2255 State Street\, Salem\, OR\, 97301\, United States
CATEGORIES:MH Landlord-Tenant Coalition
END:VEVENT
BEGIN:VEVENT
DTSTART;TZID=UTC:20180717T090000
DTEND;TZID=UTC:20180717T120000
DTSTAMP:20260423T210259
CREATED:20180325T233426Z
LAST-MODIFIED:20180617T223550Z
UID:157-1531818000-1531828800@www.floatinghomeowners.com
SUMMARY:MHC Meeting - Salem
DESCRIPTION:While it is best to participate in person and conference calls can be difficult to follow when 30 people are talking together in a room\, sometimes you just cannot make it. \nSalem dial-in conference line: 866-590-3642\, passcode *3986386*
URL:http://www.floatinghomeowners.com/event/mhc-meeting-salem/
LOCATION:Oregon Manufactured Housing Association\, 2255 State Street\, Salem\, OR\, 97301\, United States
CATEGORIES:MH Landlord-Tenant Coalition
END:VEVENT
BEGIN:VEVENT
DTSTART;TZID=UTC:20180619T090000
DTEND;TZID=UTC:20180619T120000
DTSTAMP:20260423T210259
CREATED:20180325T232653Z
LAST-MODIFIED:20180617T223537Z
UID:140-1529398800-1529409600@www.floatinghomeowners.com
SUMMARY:MHC Meeting - Tigard
DESCRIPTION:While it is best to participate in person and conference calls can be difficult to follow when 30 people are talking together in a room\, sometimes you just cannot make it. \nTigard dial-in conference line: (515) 604-9000\, passcode 948800
URL:http://www.floatinghomeowners.com/event/manufactured-housing-coalition-meeting-2/
LOCATION:MulitFamily NW\, 16083 SW Upper Boones Ferry Road\, Suite 105\, Tigard\, 97224\, United States
CATEGORIES:MH Landlord-Tenant Coalition
END:VEVENT
BEGIN:VEVENT
DTSTART;TZID=UTC:20180515T090000
DTEND;TZID=UTC:20180515T120000
DTSTAMP:20260423T210259
CREATED:20180325T232418Z
LAST-MODIFIED:20180617T223519Z
UID:137-1526374800-1526385600@www.floatinghomeowners.com
SUMMARY:MHC Meeting - Salem
DESCRIPTION:While it is best to participate in person and conference calls can be difficult to follow when 30 people are talking together in a room\, sometimes you just cannot make it. \nSalem dial-in conference line: 866-590-3642\, passcode *3986386*
URL:http://www.floatinghomeowners.com/event/manufactured-housing-coalition-meeting/
LOCATION:Oregon Manufactured Housing Association\, 2255 State Street\, Salem\, OR\, 97301\, United States
CATEGORIES:MH Landlord-Tenant Coalition
END:VEVENT
BEGIN:VEVENT
DTSTART;TZID=UTC:20180417T090000
DTEND;TZID=UTC:20180417T120000
DTSTAMP:20260423T210259
CREATED:20180324T211038Z
LAST-MODIFIED:20180617T223508Z
UID:42-1523955600-1523966400@www.floatinghomeowners.com
SUMMARY:MHC Meeting - Focus on Marinas - Tigard
DESCRIPTION:Don’t let the name confuse you – THESE ARE THE PEOPLE who meet monthly to discuss YOUR RIGHTS as a FLOATING HOME OWNER. \nTHIS IS AN IMPORTANT MEETING FOR MARINA RESIDENTS. \nOregon law addresses floating home owner rights similarly to manufactured home park residents (who own their home but lease the park space) in about 95% of the law. \nThe Manufactured Housing Coalition (MHC) has primarily been the group in charge of drafting legislation pertaining to floating home owners in rental marinas since the late 1990s.  Due to a set of similar circumstances between floating home owners who own their homes but rent their slips & manufactured homeowners who own their homes but rent the lot in a manufactured dwelling park\, the MHC (despite the name) consists of manufactured homeowners\, park owners/managers\, park attorneys\, floating homeowners\, and marina owners/managers.  Floating home owner/residents are encouraged to participate and have your voice heard. \nMHC currently meets approximately once a month in Salem or Tigard – marina landlords and tenants are always invited to share issues that are of legislative concerns for them. \nMarina owners regularly attend these meetings and weigh in on important issues for them. The marina landlord voices are well-represented. \nFloating home owners have not participated regularly in this open meeting for years\, hence the recent legislation has not been able to hear their voices. \nKey legislative initiatives are now being discussed at the April 17th meeting that will affect floating home ownership and your rights. Click here for the April 17th Agenda Discussion List. \nWhile it is best to participate in person and conference calls can be difficult to follow when 30 people are talking together in a room\, sometimes you just cannot make it. \nTigard dial-in conference line: (515) 604-9000\, passcode 948800
URL:http://www.floatinghomeowners.com/event/manufactured-housing-coalition/
LOCATION:MulitFamily NW\, 16083 SW Upper Boones Ferry Road\, Suite 105\, Tigard\, 97224\, United States
CATEGORIES:Marina Issues Subcommittee,MH Landlord-Tenant Coalition
END:VEVENT
BEGIN:VEVENT
DTSTART;TZID=UTC:20180320T090000
DTEND;TZID=UTC:20180320T120000
DTSTAMP:20260423T210259
CREATED:20180325T231510Z
LAST-MODIFIED:20180617T223455Z
UID:133-1521536400-1521547200@www.floatinghomeowners.com
SUMMARY:MHC Meeting - Salem
DESCRIPTION:
URL:http://www.floatinghomeowners.com/event/mhc-meeting/
LOCATION:Oregon Manufactured Housing Association\, 2255 State Street\, Salem\, OR\, 97301\, United States
CATEGORIES:MH Landlord-Tenant Coalition
END:VEVENT
END:VCALENDAR