BEGIN:VCALENDAR
VERSION:2.0
PRODID:-//Oregon Floating Home Owner News - ECPv6.13.2.1//NONSGML v1.0//EN
CALSCALE:GREGORIAN
METHOD:PUBLISH
X-ORIGINAL-URL:http://www.floatinghomeowners.com
X-WR-CALDESC:Events for Oregon Floating Home Owner News
REFRESH-INTERVAL;VALUE=DURATION:PT1H
X-Robots-Tag:noindex
X-PUBLISHED-TTL:PT1H
BEGIN:VTIMEZONE
TZID:UTC
BEGIN:STANDARD
TZOFFSETFROM:+0000
TZOFFSETTO:+0000
TZNAME:UTC
DTSTART:20180101T000000
END:STANDARD
END:VTIMEZONE
BEGIN:VEVENT
DTSTART;TZID=UTC:20210119T090000
DTEND;TZID=UTC:20210119T120000
DTSTAMP:20260423T182124
CREATED:20200227T181422Z
LAST-MODIFIED:20200227T181422Z
UID:637-1611046800-1611057600@www.floatinghomeowners.com
SUMMARY:MHC Coalition - Location TBD
DESCRIPTION:
URL:http://www.floatinghomeowners.com/event/mhc-coalition-location-tbd-7/
CATEGORIES:MH Landlord-Tenant Coalition
END:VEVENT
BEGIN:VEVENT
DTSTART;TZID=UTC:20201215T090000
DTEND;TZID=UTC:20201215T120000
DTSTAMP:20260423T182124
CREATED:20200227T181348Z
LAST-MODIFIED:20200227T181348Z
UID:635-1608022800-1608033600@www.floatinghomeowners.com
SUMMARY:MHC Coalition - Location TBD
DESCRIPTION:
URL:http://www.floatinghomeowners.com/event/mhc-coalition-location-tbd-6/
CATEGORIES:MH Landlord-Tenant Coalition
END:VEVENT
BEGIN:VEVENT
DTSTART;TZID=UTC:20201117T090000
DTEND;TZID=UTC:20201117T120000
DTSTAMP:20260423T182124
CREATED:20200227T181519Z
LAST-MODIFIED:20200227T181519Z
UID:639-1605603600-1605614400@www.floatinghomeowners.com
SUMMARY:MHC Coalition - Location TBD
DESCRIPTION:
URL:http://www.floatinghomeowners.com/event/mhc-coalition-location-tbd-8/
CATEGORIES:MH Landlord-Tenant Coalition
END:VEVENT
BEGIN:VEVENT
DTSTART;TZID=UTC:20201020T090000
DTEND;TZID=UTC:20201020T120000
DTSTAMP:20260423T182124
CREATED:20200227T181301Z
LAST-MODIFIED:20200227T181301Z
UID:633-1603184400-1603195200@www.floatinghomeowners.com
SUMMARY:MHC Coalition - Location TBD
DESCRIPTION:
URL:http://www.floatinghomeowners.com/event/mhc-coalition-location-tbd-5/
CATEGORIES:MH Landlord-Tenant Coalition
END:VEVENT
BEGIN:VEVENT
DTSTART;TZID=UTC:20200915T090000
DTEND;TZID=UTC:20200915T120000
DTSTAMP:20260423T182124
CREATED:20200227T181227Z
LAST-MODIFIED:20200227T181227Z
UID:631-1600160400-1600171200@www.floatinghomeowners.com
SUMMARY:MHC Coalition - Location TBD
DESCRIPTION:
URL:http://www.floatinghomeowners.com/event/mhc-coalition-location-tbd-4/
CATEGORIES:MH Landlord-Tenant Coalition
END:VEVENT
BEGIN:VEVENT
DTSTART;VALUE=DATE:20200818
DTEND;VALUE=DATE:20200819
DTSTAMP:20260423T182124
CREATED:20200227T181746Z
LAST-MODIFIED:20200227T181746Z
UID:641-1597708800-1597795199@www.floatinghomeowners.com
SUMMARY:NOTE: THERE IS NO AUGUST MH COALITION MEETING
DESCRIPTION:
URL:http://www.floatinghomeowners.com/event/note-there-is-no-august-mh-coalition-meeting/
CATEGORIES:MH Landlord-Tenant Coalition
END:VEVENT
BEGIN:VEVENT
DTSTART;TZID=UTC:20200721T090000
DTEND;TZID=UTC:20200721T120000
DTSTAMP:20260423T182124
CREATED:20200227T181152Z
LAST-MODIFIED:20200227T181446Z
UID:629-1595322000-1595332800@www.floatinghomeowners.com
SUMMARY:MHC Coalition - Location TBD
DESCRIPTION:
URL:http://www.floatinghomeowners.com/event/mhc-coalition-location-tbd-3/
CATEGORIES:MH Landlord-Tenant Coalition
END:VEVENT
BEGIN:VEVENT
DTSTART;TZID=UTC:20200616T090000
DTEND;TZID=UTC:20200616T120000
DTSTAMP:20260423T182124
CREATED:20200227T181110Z
LAST-MODIFIED:20200227T181110Z
UID:627-1592298000-1592308800@www.floatinghomeowners.com
SUMMARY:MHC Coalition - Location TBD
DESCRIPTION:
URL:http://www.floatinghomeowners.com/event/mhc-coalition-location-tbd-2/
CATEGORIES:MH Landlord-Tenant Coalition
END:VEVENT
BEGIN:VEVENT
DTSTART;TZID=UTC:20200519T090000
DTEND;TZID=UTC:20200519T120000
DTSTAMP:20260423T182124
CREATED:20200227T181029Z
LAST-MODIFIED:20200227T181029Z
UID:625-1589878800-1589889600@www.floatinghomeowners.com
SUMMARY:MHC Coalition - Location TBD
DESCRIPTION:
URL:http://www.floatinghomeowners.com/event/mhc-coalition-location-tbd/
CATEGORIES:MH Landlord-Tenant Coalition
END:VEVENT
BEGIN:VEVENT
DTSTART;TZID=UTC:20200421T090000
DTEND;TZID=UTC:20200421T120000
DTSTAMP:20260423T182124
CREATED:20200227T041536Z
LAST-MODIFIED:20200227T041853Z
UID:610-1587459600-1587470400@www.floatinghomeowners.com
SUMMARY:MHC Meeting - TIGARD
DESCRIPTION:While it is best to participate in person and conference calls can be difficult to follow when 30 people are talking together in a room\, sometimes you just cannot make it. \nTigard dial-in conference line: (515) 604-9000\, passcode 948800 \nSeating can be limited\, so bring a folding/camp chair just in case we are at standing room only when you arrive.
URL:http://www.floatinghomeowners.com/event/mhc-meeting-tigard-6/
LOCATION:MulitFamily NW\, 16083 SW Upper Boones Ferry Road\, Suite 105\, Tigard\, 97224\, United States
CATEGORIES:MH Landlord-Tenant Coalition
END:VEVENT
BEGIN:VEVENT
DTSTART;TZID=UTC:20200317T090000
DTEND;TZID=UTC:20200317T120000
DTSTAMP:20260423T182124
CREATED:20200227T041432Z
LAST-MODIFIED:20200227T041825Z
UID:608-1584435600-1584446400@www.floatinghomeowners.com
SUMMARY:MHC Meeting - TIGARD
DESCRIPTION:While it is best to participate in person and conference calls can be difficult to follow when 30 people are talking together in a room\, sometimes you just cannot make it. \nTigard dial-in conference line: (515) 604-9000\, passcode 948800 \nSeating can be limited\, so bring a folding/camp chair just in case we are at standing room only when you arrive. \n 
URL:http://www.floatinghomeowners.com/event/mhc-meeting-tigard-5/
LOCATION:MulitFamily NW\, 16083 SW Upper Boones Ferry Road\, Suite 105\, Tigard\, 97224\, United States
CATEGORIES:MH Landlord-Tenant Coalition
END:VEVENT
BEGIN:VEVENT
DTSTART;TZID=UTC:20200218T090000
DTEND;TZID=UTC:20200218T120000
DTSTAMP:20260423T182124
CREATED:20191027T035131Z
LAST-MODIFIED:20200227T040030Z
UID:597-1582016400-1582027200@www.floatinghomeowners.com
SUMMARY:MHC Meeting - SALEM
DESCRIPTION:
URL:http://www.floatinghomeowners.com/event/mhc-meeting-salem-4/
LOCATION:Oregon Manufactured Housing Association\, 2255 State Street\, Salem\, OR\, 97301\, United States
CATEGORIES:MH Landlord-Tenant Coalition
END:VEVENT
BEGIN:VEVENT
DTSTART;TZID=UTC:20200121T090000
DTEND;TZID=UTC:20200121T120000
DTSTAMP:20260423T182124
CREATED:20191027T035306Z
LAST-MODIFIED:20200227T040010Z
UID:600-1579597200-1579608000@www.floatinghomeowners.com
SUMMARY:MHC Meeting - TIGARD
DESCRIPTION:
URL:http://www.floatinghomeowners.com/event/mhc-meeting-tigard-2/
LOCATION:MulitFamily NW\, 16083 SW Upper Boones Ferry Road\, Suite 105\, Tigard\, 97224\, United States
CATEGORIES:MH Landlord-Tenant Coalition
END:VEVENT
BEGIN:VEVENT
DTSTART;TZID=UTC:20191210T090000
DTEND;TZID=UTC:20191210T120000
DTSTAMP:20260423T182124
CREATED:20191027T034927Z
LAST-MODIFIED:20200227T041350Z
UID:595-1575968400-1575979200@www.floatinghomeowners.com
SUMMARY:MHC Meeting - TIGARD
DESCRIPTION:
URL:http://www.floatinghomeowners.com/event/mhc-meeting-tigard-4/
LOCATION:MulitFamily NW\, 16083 SW Upper Boones Ferry Road\, Suite 105\, Tigard\, 97224\, United States
CATEGORIES:Marina Issues Subcommittee,MH Landlord-Tenant Coalition
END:VEVENT
BEGIN:VEVENT
DTSTART;TZID=UTC:20191112T090000
DTEND;TZID=UTC:20191112T120000
DTSTAMP:20260423T182124
CREATED:20191027T035407Z
LAST-MODIFIED:20200227T035731Z
UID:602-1573549200-1573560000@www.floatinghomeowners.com
SUMMARY:MHC Meeting - SALEM
DESCRIPTION:
URL:http://www.floatinghomeowners.com/event/mhc-meeting-salem-5/
LOCATION:Oregon Manufactured Housing Association\, 2255 State Street\, Salem\, OR\, 97301\, United States
CATEGORIES:MH Landlord-Tenant Coalition
END:VEVENT
BEGIN:VEVENT
DTSTART;TZID=UTC:20191030T090000
DTEND;TZID=UTC:20191030T120000
DTSTAMP:20260423T182124
CREATED:20191027T035505Z
LAST-MODIFIED:20200227T035851Z
UID:604-1572426000-1572436800@www.floatinghomeowners.com
SUMMARY:MHC Meeting - EUGENE
DESCRIPTION:
URL:http://www.floatinghomeowners.com/event/mhc-meeting-eugene/
LOCATION:River Valley Inn\, 1000 Valley River Way\, Eugene\, OR\, 97401\, United States
CATEGORIES:MH Landlord-Tenant Coalition
END:VEVENT
BEGIN:VEVENT
DTSTART;TZID=UTC:20190206T090000
DTEND;TZID=UTC:20190206T120000
DTSTAMP:20260423T182124
CREATED:20190205T004201Z
LAST-MODIFIED:20190205T004201Z
UID:403-1549443600-1549454400@www.floatinghomeowners.com
SUMMARY:MHC Meeting - Salem
DESCRIPTION:There will be no conference capabilities at this meeting.
URL:http://www.floatinghomeowners.com/event/mhc-meeting-salem-3/
LOCATION:Oregon Manufactured Housing Association\, 2255 State Street\, Salem\, OR\, 97301\, United States
CATEGORIES:MH Landlord-Tenant Coalition
END:VEVENT
BEGIN:VEVENT
DTSTART;TZID=UTC:20190115T090000
DTEND;TZID=UTC:20190115T120000
DTSTAMP:20260423T182124
CREATED:20181105T045724Z
LAST-MODIFIED:20181105T045724Z
UID:381-1547542800-1547553600@www.floatinghomeowners.com
SUMMARY:MHC Meeting - Salem (added 10/29/18)
DESCRIPTION:While it is best to participate in person and conference calls can be difficult to follow when 30 people are talking together in a room\, sometimes you just cannot make it. \nSalem dial-in conference line: 866-590-3642\, passcode *3986386*
URL:http://www.floatinghomeowners.com/event/mhc-meeting-salem-added-10-29-18/
LOCATION:Oregon Manufactured Housing Association\, 2255 State Street\, Salem\, OR\, 97301\, United States
CATEGORIES:MH Landlord-Tenant Coalition
END:VEVENT
BEGIN:VEVENT
DTSTART;TZID=UTC:20181218T090000
DTEND;TZID=UTC:20181218T120000
DTSTAMP:20260423T182124
CREATED:20180325T233138Z
LAST-MODIFIED:20181218T030239Z
UID:148-1545123600-1545134400@www.floatinghomeowners.com
SUMMARY:MHC Meeting - SALEM (Revised 6/29/2018)
DESCRIPTION:UPDATE:  The meeting facilitators have indicated there will be no conferencing capabilities at this meeting.  This is an in-person meeting only.
URL:http://www.floatinghomeowners.com/event/mhc-meeting-tigard/
LOCATION:Oregon Manufactured Housing Association\, 2255 State Street\, Salem\, OR\, 97301\, United States
CATEGORIES:MH Landlord-Tenant Coalition
END:VEVENT
BEGIN:VEVENT
DTSTART;TZID=UTC:20181120T090000
DTEND;TZID=UTC:20181120T120000
DTSTAMP:20260423T182124
CREATED:20180325T233559Z
LAST-MODIFIED:20180720T183121Z
UID:161-1542704400-1542715200@www.floatinghomeowners.com
SUMMARY:MHC Meeting - TIGARD (revised 6/29/2018)
DESCRIPTION:While it is best to participate in person and conference calls can be difficult to follow when 30 people are talking together in a room\, sometimes you just cannot make it. \nTigard dial-in conference line: (515) 604-9000\, passcode 948800
URL:http://www.floatinghomeowners.com/event/mhc-meeting-tigard-3/
LOCATION:MulitFamily NW\, 16083 SW Upper Boones Ferry Road\, Suite 105\, Tigard\, 97224\, United States
CATEGORIES:MH Landlord-Tenant Coalition
END:VEVENT
BEGIN:VEVENT
DTSTART;TZID=UTC:20181024T090000
DTEND;TZID=UTC:20181024T120000
DTSTAMP:20260423T182124
CREATED:20180325T233021Z
LAST-MODIFIED:20180617T223611Z
UID:146-1540371600-1540382400@www.floatinghomeowners.com
SUMMARY:MHC Meeting - Eugene
DESCRIPTION:This meeting has been changed to a Wednesday to coincide with the annual landlord meeting and will be held in Eugene.
URL:http://www.floatinghomeowners.com/event/manufactured-housing-coalition-meeting-4/
LOCATION:River Valley Inn\, 1000 Valley River Way\, Eugene\, OR\, 97401\, United States
CATEGORIES:MH Landlord-Tenant Coalition
END:VEVENT
BEGIN:VEVENT
DTSTART;TZID=UTC:20180918T090000
DTEND;TZID=UTC:20180918T120000
DTSTAMP:20260423T182124
CREATED:20180325T233512Z
LAST-MODIFIED:20180617T223607Z
UID:159-1537261200-1537272000@www.floatinghomeowners.com
SUMMARY:MHC Meeting - Salem
DESCRIPTION:While it is best to participate in person and conference calls can be difficult to follow when 30 people are talking together in a room\, sometimes you just cannot make it. \nSalem dial-in conference line: 866-590-3642\, passcode *3986386*
URL:http://www.floatinghomeowners.com/event/mhc-meeting-salem-2/
LOCATION:Oregon Manufactured Housing Association\, 2255 State Street\, Salem\, OR\, 97301\, United States
CATEGORIES:MH Landlord-Tenant Coalition
END:VEVENT
BEGIN:VEVENT
DTSTART;TZID=UTC:20180814T090000
DTEND;TZID=UTC:20180814T120000
DTSTAMP:20260423T182124
CREATED:20180325T232920Z
LAST-MODIFIED:20180720T183141Z
UID:144-1534237200-1534248000@www.floatinghomeowners.com
SUMMARY:MHC Meeting - SALEM (Revised as of 6/29/18)
DESCRIPTION:While it is best to participate in person and conference calls can be difficult to follow when 30 people are talking together in a room\, sometimes you just cannot make it. \nSalem dial-in conference line: (866) 590-3642\, passcode: *3986386*
URL:http://www.floatinghomeowners.com/event/manufactured-housing-coalition-meeting-3/
LOCATION:Oregon Manufactured Housing Association\, 2255 State Street\, Salem\, OR\, 97301\, United States
CATEGORIES:MH Landlord-Tenant Coalition
END:VEVENT
BEGIN:VEVENT
DTSTART;TZID=UTC:20180717T090000
DTEND;TZID=UTC:20180717T120000
DTSTAMP:20260423T182124
CREATED:20180325T233426Z
LAST-MODIFIED:20180617T223550Z
UID:157-1531818000-1531828800@www.floatinghomeowners.com
SUMMARY:MHC Meeting - Salem
DESCRIPTION:While it is best to participate in person and conference calls can be difficult to follow when 30 people are talking together in a room\, sometimes you just cannot make it. \nSalem dial-in conference line: 866-590-3642\, passcode *3986386*
URL:http://www.floatinghomeowners.com/event/mhc-meeting-salem/
LOCATION:Oregon Manufactured Housing Association\, 2255 State Street\, Salem\, OR\, 97301\, United States
CATEGORIES:MH Landlord-Tenant Coalition
END:VEVENT
BEGIN:VEVENT
DTSTART;TZID=UTC:20180619T090000
DTEND;TZID=UTC:20180619T120000
DTSTAMP:20260423T182124
CREATED:20180325T232653Z
LAST-MODIFIED:20180617T223537Z
UID:140-1529398800-1529409600@www.floatinghomeowners.com
SUMMARY:MHC Meeting - Tigard
DESCRIPTION:While it is best to participate in person and conference calls can be difficult to follow when 30 people are talking together in a room\, sometimes you just cannot make it. \nTigard dial-in conference line: (515) 604-9000\, passcode 948800
URL:http://www.floatinghomeowners.com/event/manufactured-housing-coalition-meeting-2/
LOCATION:MulitFamily NW\, 16083 SW Upper Boones Ferry Road\, Suite 105\, Tigard\, 97224\, United States
CATEGORIES:MH Landlord-Tenant Coalition
END:VEVENT
BEGIN:VEVENT
DTSTART;TZID=UTC:20180515T090000
DTEND;TZID=UTC:20180515T120000
DTSTAMP:20260423T182124
CREATED:20180325T232418Z
LAST-MODIFIED:20180617T223519Z
UID:137-1526374800-1526385600@www.floatinghomeowners.com
SUMMARY:MHC Meeting - Salem
DESCRIPTION:While it is best to participate in person and conference calls can be difficult to follow when 30 people are talking together in a room\, sometimes you just cannot make it. \nSalem dial-in conference line: 866-590-3642\, passcode *3986386*
URL:http://www.floatinghomeowners.com/event/manufactured-housing-coalition-meeting/
LOCATION:Oregon Manufactured Housing Association\, 2255 State Street\, Salem\, OR\, 97301\, United States
CATEGORIES:MH Landlord-Tenant Coalition
END:VEVENT
BEGIN:VEVENT
DTSTART;TZID=UTC:20180417T090000
DTEND;TZID=UTC:20180417T120000
DTSTAMP:20260423T182124
CREATED:20180324T211038Z
LAST-MODIFIED:20180617T223508Z
UID:42-1523955600-1523966400@www.floatinghomeowners.com
SUMMARY:MHC Meeting - Focus on Marinas - Tigard
DESCRIPTION:Don’t let the name confuse you – THESE ARE THE PEOPLE who meet monthly to discuss YOUR RIGHTS as a FLOATING HOME OWNER. \nTHIS IS AN IMPORTANT MEETING FOR MARINA RESIDENTS. \nOregon law addresses floating home owner rights similarly to manufactured home park residents (who own their home but lease the park space) in about 95% of the law. \nThe Manufactured Housing Coalition (MHC) has primarily been the group in charge of drafting legislation pertaining to floating home owners in rental marinas since the late 1990s.  Due to a set of similar circumstances between floating home owners who own their homes but rent their slips & manufactured homeowners who own their homes but rent the lot in a manufactured dwelling park\, the MHC (despite the name) consists of manufactured homeowners\, park owners/managers\, park attorneys\, floating homeowners\, and marina owners/managers.  Floating home owner/residents are encouraged to participate and have your voice heard. \nMHC currently meets approximately once a month in Salem or Tigard – marina landlords and tenants are always invited to share issues that are of legislative concerns for them. \nMarina owners regularly attend these meetings and weigh in on important issues for them. The marina landlord voices are well-represented. \nFloating home owners have not participated regularly in this open meeting for years\, hence the recent legislation has not been able to hear their voices. \nKey legislative initiatives are now being discussed at the April 17th meeting that will affect floating home ownership and your rights. Click here for the April 17th Agenda Discussion List. \nWhile it is best to participate in person and conference calls can be difficult to follow when 30 people are talking together in a room\, sometimes you just cannot make it. \nTigard dial-in conference line: (515) 604-9000\, passcode 948800
URL:http://www.floatinghomeowners.com/event/manufactured-housing-coalition/
LOCATION:MulitFamily NW\, 16083 SW Upper Boones Ferry Road\, Suite 105\, Tigard\, 97224\, United States
CATEGORIES:Marina Issues Subcommittee,MH Landlord-Tenant Coalition
END:VEVENT
BEGIN:VEVENT
DTSTART;TZID=UTC:20180320T090000
DTEND;TZID=UTC:20180320T120000
DTSTAMP:20260423T182124
CREATED:20180325T231510Z
LAST-MODIFIED:20180617T223455Z
UID:133-1521536400-1521547200@www.floatinghomeowners.com
SUMMARY:MHC Meeting - Salem
DESCRIPTION:
URL:http://www.floatinghomeowners.com/event/mhc-meeting/
LOCATION:Oregon Manufactured Housing Association\, 2255 State Street\, Salem\, OR\, 97301\, United States
CATEGORIES:MH Landlord-Tenant Coalition
END:VEVENT
END:VCALENDAR